BEGIN:VCALENDAR
VERSION:2.0
PRODID:https://www.kufer.de/kuferweb / DE
METHOD:PUBLISH
CALSCALE:GREGORIAN
X-WR-TIMEZONE:Europe/Berlin
BEGIN:VTIMEZONE
TZID:Europe/Berlin
X-LIC-LOCATION:Europe/Berlin
BEGIN:DAYLIGHT
TZOFFSETFROM:+0100
TZOFFSETTO:+0200
TZNAME:CEST
DTSTART:19700329T020000
RRULE:FREQ=YEARLY;INTERVAL=1;BYDAY=-1SU;BYMONTH=3
END:DAYLIGHT
BEGIN:STANDARD
TZOFFSETFROM:+0200
TZOFFSETTO:+0100
TZNAME:CET
DTSTART:19701025T030000
RRULE:FREQ=YEARLY;INTERVAL=1;BYDAY=-1SU;BYMONTH=10
END:STANDARD
END:VTIMEZONE
BEGIN:VEVENT
DTSTAMP:20260420T200132
DTSTART;TZID=Europe/Berlin:20260506T190000
DTEND;TZID=Europe/Berlin:20260506T203000
UID:61GG21303-20260506T190000@KVHSGROSS-GERAU
SUMMARY:Afrikanisches Trommeln - Lebensfreude und Energie pur! (61GG21303) 
LOCATION:Groß-Gerau; Schloss Dornberg; Torhaus, Hauptstraße1, 64521 Groß-Gerau Dornberg
END:VEVENT
BEGIN:VEVENT
DTSTAMP:20260420T200132
DTSTART;TZID=Europe/Berlin:20260513T190000
DTEND;TZID=Europe/Berlin:20260513T203000
UID:61GG21303-20260513T190000@KVHSGROSS-GERAU
SUMMARY:Afrikanisches Trommeln - Lebensfreude und Energie pur! (61GG21303) 
LOCATION:Groß-Gerau; Schloss Dornberg; Torhaus, Hauptstraße1, 64521 Groß-Gerau Dornberg
END:VEVENT
BEGIN:VEVENT
DTSTAMP:20260420T200132
DTSTART;TZID=Europe/Berlin:20260520T190000
DTEND;TZID=Europe/Berlin:20260520T203000
UID:61GG21303-20260520T190000@KVHSGROSS-GERAU
SUMMARY:Afrikanisches Trommeln - Lebensfreude und Energie pur! (61GG21303) 
LOCATION:Groß-Gerau; Schloss Dornberg; Torhaus, Hauptstraße1, 64521 Groß-Gerau Dornberg
END:VEVENT
BEGIN:VEVENT
DTSTAMP:20260420T200132
DTSTART;TZID=Europe/Berlin:20260527T190000
DTEND;TZID=Europe/Berlin:20260527T203000
UID:61GG21303-20260527T190000@KVHSGROSS-GERAU
SUMMARY:Afrikanisches Trommeln - Lebensfreude und Energie pur! (61GG21303) 
LOCATION:Groß-Gerau; Schloss Dornberg; Torhaus, Hauptstraße1, 64521 Groß-Gerau Dornberg
END:VEVENT
BEGIN:VEVENT
DTSTAMP:20260420T200132
DTSTART;TZID=Europe/Berlin:20260603T190000
DTEND;TZID=Europe/Berlin:20260603T203000
UID:61GG21303-20260603T190000@KVHSGROSS-GERAU
SUMMARY:Afrikanisches Trommeln - Lebensfreude und Energie pur! (61GG21303) 
LOCATION:Groß-Gerau; Schloss Dornberg; Torhaus, Hauptstraße1, 64521 Groß-Gerau Dornberg
END:VEVENT
BEGIN:VEVENT
DTSTAMP:20260420T200132
DTSTART;TZID=Europe/Berlin:20260610T190000
DTEND;TZID=Europe/Berlin:20260610T203000
UID:61GG21303-20260610T190000@KVHSGROSS-GERAU
SUMMARY:Afrikanisches Trommeln - Lebensfreude und Energie pur! (61GG21303) 
LOCATION:Groß-Gerau; Schloss Dornberg; Torhaus, Hauptstraße1, 64521 Groß-Gerau Dornberg
END:VEVENT
BEGIN:VEVENT
DTSTAMP:20260420T200132
DTSTART;TZID=Europe/Berlin:20260617T190000
DTEND;TZID=Europe/Berlin:20260617T203000
UID:61GG21303-20260617T190000@KVHSGROSS-GERAU
SUMMARY:Afrikanisches Trommeln - Lebensfreude und Energie pur! (61GG21303) 
LOCATION:Groß-Gerau; Schloss Dornberg; Torhaus, Hauptstraße1, 64521 Groß-Gerau Dornberg
END:VEVENT
BEGIN:VEVENT
DTSTAMP:20260420T200132
DTSTART;TZID=Europe/Berlin:20260624T190000
DTEND;TZID=Europe/Berlin:20260624T203000
UID:61GG21303-20260624T190000@KVHSGROSS-GERAU
SUMMARY:Afrikanisches Trommeln - Lebensfreude und Energie pur! (61GG21303) 
LOCATION:Groß-Gerau; Schloss Dornberg; Torhaus, Hauptstraße1, 64521 Groß-Gerau Dornberg
END:VEVENT
END:VCALENDAR