BEGIN:VCALENDAR
VERSION:2.0
PRODID:https://www.kufer.de/kuferweb / DE
METHOD:PUBLISH
CALSCALE:GREGORIAN
X-WR-TIMEZONE:Europe/Berlin
BEGIN:VTIMEZONE
TZID:Europe/Berlin
X-LIC-LOCATION:Europe/Berlin
BEGIN:DAYLIGHT
TZOFFSETFROM:+0100
TZOFFSETTO:+0200
TZNAME:CEST
DTSTART:19700329T020000
RRULE:FREQ=YEARLY;INTERVAL=1;BYDAY=-1SU;BYMONTH=3
END:DAYLIGHT
BEGIN:STANDARD
TZOFFSETFROM:+0200
TZOFFSETTO:+0100
TZNAME:CET
DTSTART:19701025T030000
RRULE:FREQ=YEARLY;INTERVAL=1;BYDAY=-1SU;BYMONTH=10
END:STANDARD
END:VTIMEZONE
BEGIN:VEVENT
DTSTAMP:20260422T172150
DTSTART;TZID=Europe/Berlin:20261113T173000
DTEND;TZID=Europe/Berlin:20261113T210000
UID:62GG30712-20261113T173000@KVHSGROSS-GERAU
SUMMARY:Ein Abend in Thailand – würzige Küche und süßer Abschluss (62GG30712) 
LOCATION:Groß-Gerau; Bildungszentrum Wasserweg; Kochstudio R 009 , Wasserweg 2, 64521 Groß-Gerau
END:VEVENT
END:VCALENDAR