BEGIN:VCALENDAR
VERSION:2.0
PRODID:https://www.kufer.de/kuferweb / DE
METHOD:PUBLISH
CALSCALE:GREGORIAN
X-WR-TIMEZONE:Europe/Berlin
BEGIN:VTIMEZONE
TZID:Europe/Berlin
X-LIC-LOCATION:Europe/Berlin
BEGIN:DAYLIGHT
TZOFFSETFROM:+0100
TZOFFSETTO:+0200
TZNAME:CEST
DTSTART:19700329T020000
RRULE:FREQ=YEARLY;INTERVAL=1;BYDAY=-1SU;BYMONTH=3
END:DAYLIGHT
BEGIN:STANDARD
TZOFFSETFROM:+0200
TZOFFSETTO:+0100
TZNAME:CET
DTSTART:19701025T030000
RRULE:FREQ=YEARLY;INTERVAL=1;BYDAY=-1SU;BYMONTH=10
END:STANDARD
END:VTIMEZONE
BEGIN:VEVENT
DTSTAMP:20260423T105657
DTSTART;TZID=Europe/Berlin:20260905T100000
DTEND;TZID=Europe/Berlin:20260905T170000
UID:62RI11054-20260905T100000@KVHSGROSS-GERAU
SUMMARY:Hier blüht Ihnen was! - Mit Erkenntnis und Spaß zum individuellen Garten(t)raum (62RI11054) 
LOCATION:Stockstadt; Hofgut Guntershausen; Gruppenraum, Insel Kühkopf, 64589 Stockstadt am Rhein
END:VEVENT
BEGIN:VEVENT
DTSTAMP:20260423T105657
DTSTART;TZID=Europe/Berlin:20260906T100000
DTEND;TZID=Europe/Berlin:20260906T170000
UID:62RI11054-20260906T100000@KVHSGROSS-GERAU
SUMMARY:Hier blüht Ihnen was! - Mit Erkenntnis und Spaß zum individuellen Garten(t)raum (62RI11054) 
LOCATION:Stockstadt; Hofgut Guntershausen; Gruppenraum, Insel Kühkopf, 64589 Stockstadt am Rhein
END:VEVENT
END:VCALENDAR