BEGIN:VCALENDAR
VERSION:2.0
PRODID:https://www.kufer.de/kuferweb / DE
METHOD:PUBLISH
CALSCALE:GREGORIAN
X-WR-TIMEZONE:Europe/Berlin
BEGIN:VTIMEZONE
TZID:Europe/Berlin
X-LIC-LOCATION:Europe/Berlin
BEGIN:DAYLIGHT
TZOFFSETFROM:+0100
TZOFFSETTO:+0200
TZNAME:CEST
DTSTART:19700329T020000
RRULE:FREQ=YEARLY;INTERVAL=1;BYDAY=-1SU;BYMONTH=3
END:DAYLIGHT
BEGIN:STANDARD
TZOFFSETFROM:+0200
TZOFFSETTO:+0100
TZNAME:CET
DTSTART:19701025T030000
RRULE:FREQ=YEARLY;INTERVAL=1;BYDAY=-1SU;BYMONTH=10
END:STANDARD
END:VTIMEZONE
BEGIN:VEVENT
DTSTAMP:20260424T192951
DTSTART;TZID=Europe/Berlin:20260817T190000
DTEND;TZID=Europe/Berlin:20260817T200000
UID:62TB30273-20260817T190000@KVHSGROSS-GERAU
SUMMARY:Zumba® Fitness (62TB30273) 
LOCATION:Trebur; Lindenschule; Turnhalle, Astheimer Str. 17, 65468 Trebur
END:VEVENT
BEGIN:VEVENT
DTSTAMP:20260424T192951
DTSTART;TZID=Europe/Berlin:20260824T190000
DTEND;TZID=Europe/Berlin:20260824T200000
UID:62TB30273-20260824T190000@KVHSGROSS-GERAU
SUMMARY:Zumba® Fitness (62TB30273) 
LOCATION:Trebur; Lindenschule; Turnhalle, Astheimer Str. 17, 65468 Trebur
END:VEVENT
BEGIN:VEVENT
DTSTAMP:20260424T192951
DTSTART;TZID=Europe/Berlin:20260831T190000
DTEND;TZID=Europe/Berlin:20260831T200000
UID:62TB30273-20260831T190000@KVHSGROSS-GERAU
SUMMARY:Zumba® Fitness (62TB30273) 
LOCATION:Trebur; Lindenschule; Turnhalle, Astheimer Str. 17, 65468 Trebur
END:VEVENT
BEGIN:VEVENT
DTSTAMP:20260424T192951
DTSTART;TZID=Europe/Berlin:20260907T190000
DTEND;TZID=Europe/Berlin:20260907T200000
UID:62TB30273-20260907T190000@KVHSGROSS-GERAU
SUMMARY:Zumba® Fitness (62TB30273) 
LOCATION:Trebur; Lindenschule; Turnhalle, Astheimer Str. 17, 65468 Trebur
END:VEVENT
BEGIN:VEVENT
DTSTAMP:20260424T192951
DTSTART;TZID=Europe/Berlin:20260914T190000
DTEND;TZID=Europe/Berlin:20260914T200000
UID:62TB30273-20260914T190000@KVHSGROSS-GERAU
SUMMARY:Zumba® Fitness (62TB30273) 
LOCATION:Trebur; Lindenschule; Turnhalle, Astheimer Str. 17, 65468 Trebur
END:VEVENT
BEGIN:VEVENT
DTSTAMP:20260424T192951
DTSTART;TZID=Europe/Berlin:20260921T190000
DTEND;TZID=Europe/Berlin:20260921T200000
UID:62TB30273-20260921T190000@KVHSGROSS-GERAU
SUMMARY:Zumba® Fitness (62TB30273) 
LOCATION:Trebur; Lindenschule; Turnhalle, Astheimer Str. 17, 65468 Trebur
END:VEVENT
BEGIN:VEVENT
DTSTAMP:20260424T192951
DTSTART;TZID=Europe/Berlin:20260928T190000
DTEND;TZID=Europe/Berlin:20260928T200000
UID:62TB30273-20260928T190000@KVHSGROSS-GERAU
SUMMARY:Zumba® Fitness (62TB30273) 
LOCATION:Trebur; Lindenschule; Turnhalle, Astheimer Str. 17, 65468 Trebur
END:VEVENT
END:VCALENDAR