BEGIN:VCALENDAR
VERSION:2.0
PRODID:https://www.kufer.de/kuferweb / DE
METHOD:PUBLISH
CALSCALE:GREGORIAN
X-WR-TIMEZONE:Europe/Berlin
BEGIN:VTIMEZONE
TZID:Europe/Berlin
X-LIC-LOCATION:Europe/Berlin
BEGIN:DAYLIGHT
TZOFFSETFROM:+0100
TZOFFSETTO:+0200
TZNAME:CEST
DTSTART:19700329T020000
RRULE:FREQ=YEARLY;INTERVAL=1;BYDAY=-1SU;BYMONTH=3
END:DAYLIGHT
BEGIN:STANDARD
TZOFFSETFROM:+0200
TZOFFSETTO:+0100
TZNAME:CET
DTSTART:19701025T030000
RRULE:FREQ=YEARLY;INTERVAL=1;BYDAY=-1SU;BYMONTH=10
END:STANDARD
END:VTIMEZONE
BEGIN:VEVENT
DTSTAMP:20260422T155422
DTSTART;TZID=Europe/Berlin:20270127T180000
DTEND;TZID=Europe/Berlin:20270127T211500
UID:71GG40408E-20270127T180000@KVHSGROSS-GERAU
SUMMARY:Integrationskurs Kompaktkurs in Groß-Gerau Modul 5 (71GG40408E) 
LOCATION:Groß-Gerau; Berufliche Schulen; B114; Gebäude B, Darmstädter Str. 90, 64521 Groß-Gerau
END:VEVENT
BEGIN:VEVENT
DTSTAMP:20260422T155422
DTSTART;TZID=Europe/Berlin:20270128T180000
DTEND;TZID=Europe/Berlin:20270128T211500
UID:71GG40408E-20270128T180000@KVHSGROSS-GERAU
SUMMARY:Integrationskurs Kompaktkurs in Groß-Gerau Modul 5 (71GG40408E) 
LOCATION:Groß-Gerau; Berufliche Schulen; B114; Gebäude B, Darmstädter Str. 90, 64521 Groß-Gerau
END:VEVENT
BEGIN:VEVENT
DTSTAMP:20260422T155422
DTSTART;TZID=Europe/Berlin:20270201T180000
DTEND;TZID=Europe/Berlin:20270201T211500
UID:71GG40408E-20270201T180000@KVHSGROSS-GERAU
SUMMARY:Integrationskurs Kompaktkurs in Groß-Gerau Modul 5 (71GG40408E) 
LOCATION:Groß-Gerau; Berufliche Schulen; B114; Gebäude B, Darmstädter Str. 90, 64521 Groß-Gerau
END:VEVENT
BEGIN:VEVENT
DTSTAMP:20260422T155422
DTSTART;TZID=Europe/Berlin:20270202T180000
DTEND;TZID=Europe/Berlin:20270202T211500
UID:71GG40408E-20270202T180000@KVHSGROSS-GERAU
SUMMARY:Integrationskurs Kompaktkurs in Groß-Gerau Modul 5 (71GG40408E) 
LOCATION:Groß-Gerau; Berufliche Schulen; B114; Gebäude B, Darmstädter Str. 90, 64521 Groß-Gerau
END:VEVENT
BEGIN:VEVENT
DTSTAMP:20260422T155422
DTSTART;TZID=Europe/Berlin:20270203T180000
DTEND;TZID=Europe/Berlin:20270203T211500
UID:71GG40408E-20270203T180000@KVHSGROSS-GERAU
SUMMARY:Integrationskurs Kompaktkurs in Groß-Gerau Modul 5 (71GG40408E) 
LOCATION:Groß-Gerau; Berufliche Schulen; B114; Gebäude B, Darmstädter Str. 90, 64521 Groß-Gerau
END:VEVENT
BEGIN:VEVENT
DTSTAMP:20260422T155422
DTSTART;TZID=Europe/Berlin:20270204T180000
DTEND;TZID=Europe/Berlin:20270204T211500
UID:71GG40408E-20270204T180000@KVHSGROSS-GERAU
SUMMARY:Integrationskurs Kompaktkurs in Groß-Gerau Modul 5 (71GG40408E) 
LOCATION:Groß-Gerau; Berufliche Schulen; B114; Gebäude B, Darmstädter Str. 90, 64521 Groß-Gerau
END:VEVENT
BEGIN:VEVENT
DTSTAMP:20260422T155422
DTSTART;TZID=Europe/Berlin:20270208T180000
DTEND;TZID=Europe/Berlin:20270208T211500
UID:71GG40408E-20270208T180000@KVHSGROSS-GERAU
SUMMARY:Integrationskurs Kompaktkurs in Groß-Gerau Modul 5 (71GG40408E) 
LOCATION:Groß-Gerau; Berufliche Schulen; B114; Gebäude B, Darmstädter Str. 90, 64521 Groß-Gerau
END:VEVENT
BEGIN:VEVENT
DTSTAMP:20260422T155422
DTSTART;TZID=Europe/Berlin:20270209T180000
DTEND;TZID=Europe/Berlin:20270209T211500
UID:71GG40408E-20270209T180000@KVHSGROSS-GERAU
SUMMARY:Integrationskurs Kompaktkurs in Groß-Gerau Modul 5 (71GG40408E) 
LOCATION:Groß-Gerau; Berufliche Schulen; B114; Gebäude B, Darmstädter Str. 90, 64521 Groß-Gerau
END:VEVENT
BEGIN:VEVENT
DTSTAMP:20260422T155422
DTSTART;TZID=Europe/Berlin:20270210T180000
DTEND;TZID=Europe/Berlin:20270210T211500
UID:71GG40408E-20270210T180000@KVHSGROSS-GERAU
SUMMARY:Integrationskurs Kompaktkurs in Groß-Gerau Modul 5 (71GG40408E) 
LOCATION:Groß-Gerau; Berufliche Schulen; B114; Gebäude B, Darmstädter Str. 90, 64521 Groß-Gerau
END:VEVENT
BEGIN:VEVENT
DTSTAMP:20260422T155422
DTSTART;TZID=Europe/Berlin:20270211T180000
DTEND;TZID=Europe/Berlin:20270211T211500
UID:71GG40408E-20270211T180000@KVHSGROSS-GERAU
SUMMARY:Integrationskurs Kompaktkurs in Groß-Gerau Modul 5 (71GG40408E) 
LOCATION:Groß-Gerau; Berufliche Schulen; B114; Gebäude B, Darmstädter Str. 90, 64521 Groß-Gerau
END:VEVENT
BEGIN:VEVENT
DTSTAMP:20260422T155422
DTSTART;TZID=Europe/Berlin:20270215T180000
DTEND;TZID=Europe/Berlin:20270215T211500
UID:71GG40408E-20270215T180000@KVHSGROSS-GERAU
SUMMARY:Integrationskurs Kompaktkurs in Groß-Gerau Modul 5 (71GG40408E) 
LOCATION:Groß-Gerau; Berufliche Schulen; B114; Gebäude B, Darmstädter Str. 90, 64521 Groß-Gerau
END:VEVENT
BEGIN:VEVENT
DTSTAMP:20260422T155422
DTSTART;TZID=Europe/Berlin:20270216T180000
DTEND;TZID=Europe/Berlin:20270216T211500
UID:71GG40408E-20270216T180000@KVHSGROSS-GERAU
SUMMARY:Integrationskurs Kompaktkurs in Groß-Gerau Modul 5 (71GG40408E) 
LOCATION:Groß-Gerau; Berufliche Schulen; B114; Gebäude B, Darmstädter Str. 90, 64521 Groß-Gerau
END:VEVENT
BEGIN:VEVENT
DTSTAMP:20260422T155422
DTSTART;TZID=Europe/Berlin:20270217T180000
DTEND;TZID=Europe/Berlin:20270217T211500
UID:71GG40408E-20270217T180000@KVHSGROSS-GERAU
SUMMARY:Integrationskurs Kompaktkurs in Groß-Gerau Modul 5 (71GG40408E) 
LOCATION:Groß-Gerau; Berufliche Schulen; B114; Gebäude B, Darmstädter Str. 90, 64521 Groß-Gerau
END:VEVENT
BEGIN:VEVENT
DTSTAMP:20260422T155422
DTSTART;TZID=Europe/Berlin:20270218T180000
DTEND;TZID=Europe/Berlin:20270218T211500
UID:71GG40408E-20270218T180000@KVHSGROSS-GERAU
SUMMARY:Integrationskurs Kompaktkurs in Groß-Gerau Modul 5 (71GG40408E) 
LOCATION:Groß-Gerau; Berufliche Schulen; B114; Gebäude B, Darmstädter Str. 90, 64521 Groß-Gerau
END:VEVENT
BEGIN:VEVENT
DTSTAMP:20260422T155422
DTSTART;TZID=Europe/Berlin:20270222T180000
DTEND;TZID=Europe/Berlin:20270222T211500
UID:71GG40408E-20270222T180000@KVHSGROSS-GERAU
SUMMARY:Integrationskurs Kompaktkurs in Groß-Gerau Modul 5 (71GG40408E) 
LOCATION:Groß-Gerau; Berufliche Schulen; B114; Gebäude B, Darmstädter Str. 90, 64521 Groß-Gerau
END:VEVENT
BEGIN:VEVENT
DTSTAMP:20260422T155422
DTSTART;TZID=Europe/Berlin:20270223T180000
DTEND;TZID=Europe/Berlin:20270223T211500
UID:71GG40408E-20270223T180000@KVHSGROSS-GERAU
SUMMARY:Integrationskurs Kompaktkurs in Groß-Gerau Modul 5 (71GG40408E) 
LOCATION:Groß-Gerau; Berufliche Schulen; B114; Gebäude B, Darmstädter Str. 90, 64521 Groß-Gerau
END:VEVENT
BEGIN:VEVENT
DTSTAMP:20260422T155422
DTSTART;TZID=Europe/Berlin:20270224T180000
DTEND;TZID=Europe/Berlin:20270224T211500
UID:71GG40408E-20270224T180000@KVHSGROSS-GERAU
SUMMARY:Integrationskurs Kompaktkurs in Groß-Gerau Modul 5 (71GG40408E) 
LOCATION:Groß-Gerau; Berufliche Schulen; B114; Gebäude B, Darmstädter Str. 90, 64521 Groß-Gerau
END:VEVENT
BEGIN:VEVENT
DTSTAMP:20260422T155422
DTSTART;TZID=Europe/Berlin:20270225T180000
DTEND;TZID=Europe/Berlin:20270225T211500
UID:71GG40408E-20270225T180000@KVHSGROSS-GERAU
SUMMARY:Integrationskurs Kompaktkurs in Groß-Gerau Modul 5 (71GG40408E) 
LOCATION:Groß-Gerau; Berufliche Schulen; B114; Gebäude B, Darmstädter Str. 90, 64521 Groß-Gerau
END:VEVENT
BEGIN:VEVENT
DTSTAMP:20260422T155422
DTSTART;TZID=Europe/Berlin:20270301T180000
DTEND;TZID=Europe/Berlin:20270301T211500
UID:71GG40408E-20270301T180000@KVHSGROSS-GERAU
SUMMARY:Integrationskurs Kompaktkurs in Groß-Gerau Modul 5 (71GG40408E) 
LOCATION:Groß-Gerau; Berufliche Schulen; B114; Gebäude B, Darmstädter Str. 90, 64521 Groß-Gerau
END:VEVENT
BEGIN:VEVENT
DTSTAMP:20260422T155422
DTSTART;TZID=Europe/Berlin:20270302T180000
DTEND;TZID=Europe/Berlin:20270302T211500
UID:71GG40408E-20270302T180000@KVHSGROSS-GERAU
SUMMARY:Integrationskurs Kompaktkurs in Groß-Gerau Modul 5 (71GG40408E) 
LOCATION:Groß-Gerau; Berufliche Schulen; B114; Gebäude B, Darmstädter Str. 90, 64521 Groß-Gerau
END:VEVENT
BEGIN:VEVENT
DTSTAMP:20260422T155422
DTSTART;TZID=Europe/Berlin:20270303T180000
DTEND;TZID=Europe/Berlin:20270303T211500
UID:71GG40408E-20270303T180000@KVHSGROSS-GERAU
SUMMARY:Integrationskurs Kompaktkurs in Groß-Gerau Modul 5 (71GG40408E) 
LOCATION:Groß-Gerau; Berufliche Schulen; B114; Gebäude B, Darmstädter Str. 90, 64521 Groß-Gerau
END:VEVENT
BEGIN:VEVENT
DTSTAMP:20260422T155422
DTSTART;TZID=Europe/Berlin:20270304T180000
DTEND;TZID=Europe/Berlin:20270304T211500
UID:71GG40408E-20270304T180000@KVHSGROSS-GERAU
SUMMARY:Integrationskurs Kompaktkurs in Groß-Gerau Modul 5 (71GG40408E) 
LOCATION:Groß-Gerau; Berufliche Schulen; B114; Gebäude B, Darmstädter Str. 90, 64521 Groß-Gerau
END:VEVENT
BEGIN:VEVENT
DTSTAMP:20260422T155422
DTSTART;TZID=Europe/Berlin:20270308T180000
DTEND;TZID=Europe/Berlin:20270308T211500
UID:71GG40408E-20270308T180000@KVHSGROSS-GERAU
SUMMARY:Integrationskurs Kompaktkurs in Groß-Gerau Modul 5 (71GG40408E) 
LOCATION:Groß-Gerau; Berufliche Schulen; B114; Gebäude B, Darmstädter Str. 90, 64521 Groß-Gerau
END:VEVENT
BEGIN:VEVENT
DTSTAMP:20260422T155422
DTSTART;TZID=Europe/Berlin:20270309T180000
DTEND;TZID=Europe/Berlin:20270309T211500
UID:71GG40408E-20270309T180000@KVHSGROSS-GERAU
SUMMARY:Integrationskurs Kompaktkurs in Groß-Gerau Modul 5 (71GG40408E) 
LOCATION:Groß-Gerau; Berufliche Schulen; B114; Gebäude B, Darmstädter Str. 90, 64521 Groß-Gerau
END:VEVENT
BEGIN:VEVENT
DTSTAMP:20260422T155422
DTSTART;TZID=Europe/Berlin:20270310T180000
DTEND;TZID=Europe/Berlin:20270310T211500
UID:71GG40408E-20270310T180000@KVHSGROSS-GERAU
SUMMARY:Integrationskurs Kompaktkurs in Groß-Gerau Modul 5 (71GG40408E) 
LOCATION:Groß-Gerau; Berufliche Schulen; B114; Gebäude B, Darmstädter Str. 90, 64521 Groß-Gerau
END:VEVENT
END:VCALENDAR